BEGIN:VCALENDAR
VERSION:2.0
PRODID:spatie/icalendar-generator
DESCRIPTION:Veranstaltungen von Fahrschule Keinath
X-WR-CALDESC:Veranstaltungen von Fahrschule Keinath
REFRESH-INTERVAL;VALUE=DURATION:PT1440M
X-PUBLISHED-TTL:PT1440M
BEGIN:VTIMEZONE
TZID:Etc/GMT+0
BEGIN:STANDARD
DTSTART:20250809T160000Z
TZOFFSETFROM:+0000
TZOFFSETTO:+0000
END:STANDARD
END:VTIMEZONE
BEGIN:VTIMEZONE
TZID:UTC
BEGIN:STANDARD
DTSTART:20250727T094424Z
TZOFFSETFROM:+0000
TZOFFSETTO:+0000
END:STANDARD
END:VTIMEZONE
BEGIN:VEVENT
UID:337-49
DTSTAMP:20260423T094424Z
SUMMARY:ASF Seminar Mai
LOCATION:Univiertel  Hermann-Köhl-Str. 15 Augsburg  86159
ORGANIZER;CN=Sabine Keinath:MAILTO:sk@die-keinath-gmbh.de
DTSTART;TZID=Etc/GMT+0:20260506T160000
DTEND;TZID=Etc/GMT+0:20260506T181500
X-ALT-DESC;FMTTYPE=TEXT/HTML:<p><a href="https://www.fahrschule-keinath.de
 /kurs-anmeldung/?event_title={title}&amp;amp\;event_date={date}&amp;amp\;event_loc
 ation={location}" class="event-link"><br />\n   → Jetzt anmelden<br />\n</a></p>\n
CATEGORIES:ASF Seminar
URL;VALUE=URI:https://www.fahrschule-keinath.de/mc-events/asf-seminar-mai/
METHOD:PUBLISH
END:VEVENT
END:VCALENDAR